BEGIN:VCALENDAR
PRODID:SV Blau-Weiß Bochum 1896 e.V.
VERSION:2.0
METHOD:PUBLISH
BEGIN:VEVENT
DTSTART:20191205T193000
DTEND:20191205T203000
TRANSP:OPAQUE
UID:xyz
DTSTAMP:20260421T172600Z
SUMMARY:Verbandsliga_Herren_2
DESCRIPTION:SV Kamen - SV Blau-Weiß Bochum 2 (https://bw-bochum.de/m.p
 hp?kid=1322)
LOCATION:Hallenbad/ Gesamtschule (Kamen)
END:VEVENT
END:VCALENDAR