BEGIN:VCALENDAR
PRODID:SV Blau-Weiß Bochum 1896 e.V.
VERSION:2.0
METHOD:PUBLISH
BEGIN:VEVENT
DTSTART:20250524T083000
DTEND:20250525T180000
TRANSP:OPAQUE
UID:xyz
DTSTAMP:20260420T102100Z
SUMMARY:NRW_Jargangsmeisterschaften_Schwimmen
DESCRIPTION:Nordrhein-Westfälische Jahrgangsmeisterschaften der Jahrgä
 nge 2007 bis 2012 weiblich und männlich am 24. – 25. Mai 2025 in Do
 rtmund (https://bw-bochum.de/m.php?kid=1792)
LOCATION:Südbad (50m) (Dortmund)
END:VEVENT
END:VCALENDAR