BEGIN:VCALENDAR
PRODID:SV Blau-Weiß Bochum 1896 e.V.
VERSION:2.0
METHOD:PUBLISH
BEGIN:VEVENT
DTSTART:20250619T000000
DTEND:20250621T235900
TRANSP:OPAQUE
UID:xyz
DTSTAMP:20260420T104800Z
SUMMARY:Deutsche_Meisterschaften_Freiwasser
DESCRIPTION:Deutsche Meisterschaften im Freiwasser (https://bw-bochum.de
 /m.php?kid=1795)
END:VEVENT
END:VCALENDAR