BEGIN:VCALENDAR
PRODID:SV Blau-Weiß Bochum 1896 e.V.
VERSION:2.0
METHOD:PUBLISH
BEGIN:VEVENT
DTSTART:20250622T000000
DTEND:20250622T235900
TRANSP:OPAQUE
UID:xyz
DTSTAMP:20260421T120300Z
SUMMARY:2_Damen_Triathlon_Oberliga-Wettkampf
DESCRIPTION: (https://bw-bochum.de/m.php?kid=1814)
LOCATION: (Münster)
END:VEVENT
END:VCALENDAR