BEGIN:VCALENDAR
PRODID:SV Blau-Weiß Bochum 1896 e.V.
VERSION:2.0
METHOD:PUBLISH
BEGIN:VEVENT
DTSTART:20250907T000000
DTEND:20250907T235900
TRANSP:OPAQUE
UID:xyz
DTSTAMP:20260421T115900Z
SUMMARY:1_Herren_Triathlon_Oberliga-Wettkampf
DESCRIPTION: (https://bw-bochum.de/m.php?kid=1821)
LOCATION: (Xanten)
END:VEVENT
END:VCALENDAR