BEGIN:VCALENDAR
PRODID:SV Blau-Weiß Bochum 1896 e.V.
VERSION:2.0
METHOD:PUBLISH
BEGIN:VEVENT
DTSTART:20250913T000000
DTEND:20250913T235900
TRANSP:OPAQUE
UID:xyz
DTSTAMP:20260421T103700Z
SUMMARY:Triathlon_Seniorenliga_mixed_ue40-Wettkampf
DESCRIPTION: (https://bw-bochum.de/m.php?kid=1829)
LOCATION: (Wesel)
END:VEVENT
END:VCALENDAR