BEGIN:VCALENDAR
PRODID:SV Blau-Weiß Bochum 1896 e.V.
VERSION:2.0
METHOD:PUBLISH
BEGIN:VEVENT
DTSTART:20250601T000000
DTEND:20250601T235900
TRANSP:OPAQUE
UID:xyz
DTSTAMP:20260421T103700Z
SUMMARY:Ironman_Hamburg
DESCRIPTION: (https://bw-bochum.de/m.php?kid=1836)
LOCATION: (Hamburg)
END:VEVENT
END:VCALENDAR