BEGIN:VCALENDAR
PRODID:SV Blau-Weiß Bochum 1896 e.V.
VERSION:2.0
METHOD:PUBLISH
BEGIN:VEVENT
DTSTART:20250518T000000
DTEND:20250518T235900
TRANSP:OPAQUE
UID:xyz
DTSTAMP:20260419T171600Z
SUMMARY:NRW_Nachwuchscup-Serie_Triathlon_388
DESCRIPTION: (https://bw-bochum.de/m.php?kid=1849)
LOCATION: (Drensteinfurt)
END:VEVENT
END:VCALENDAR