BEGIN:VCALENDAR
PRODID:SV Blau-Weiß Bochum 1896 e.V.
VERSION:2.0
METHOD:PUBLISH
BEGIN:VEVENT
DTSTART:20250622T000000
DTEND:20250622T235900
TRANSP:OPAQUE
UID:xyz
DTSTAMP:20260421T120500Z
SUMMARY:NRW_Nachwuchscup-Serie_Triathlon_588
DESCRIPTION: (https://bw-bochum.de/m.php?kid=1851)
LOCATION:Schwimmverein Blau-Weiß Bochum (Bochum)
END:VEVENT
END:VCALENDAR