BEGIN:VCALENDAR
PRODID:SV Blau-Weiß Bochum 1896 e.V.
VERSION:2.0
METHOD:PUBLISH
BEGIN:VEVENT
DTSTART:20251113T090000
DTEND:20251116T180000
TRANSP:OPAQUE
UID:xyz
DTSTAMP:20260421T120000Z
SUMMARY:Deutsche_Kurzbahnmeisterschaften_Schwimmen
DESCRIPTION: (https://bw-bochum.de/m.php?kid=1866)
END:VEVENT
END:VCALENDAR