BEGIN:VCALENDAR
PRODID:SV Blau-Weiß Bochum 1896 e.V.
VERSION:2.0
METHOD:PUBLISH
BEGIN:VEVENT
DTSTART:20251213T100000
DTEND:20251214T180000
TRANSP:OPAQUE
UID:xyz
DTSTAMP:20260421T120200Z
SUMMARY:Suedwestfaelische_Kurzbahn-Meisterschaften_2025
DESCRIPTION: (https://bw-bochum.de/m.php?kid=1871)
END:VEVENT
END:VCALENDAR