BEGIN:VCALENDAR
PRODID:SV Blau-Weiß Bochum 1896 e.V.
VERSION:2.0
METHOD:PUBLISH
BEGIN:VEVENT
DTSTART:20260221T100000
DTEND:20260222T180000
TRANSP:OPAQUE
UID:xyz
DTSTAMP:20260421T230100Z
SUMMARY:Suedwestfaelische_Meisterschaften
DESCRIPTION: (https://bw-bochum.de/m.php?kid=1883)
LOCATION:Südbad (50m) (Dortmund)
END:VEVENT
END:VCALENDAR