BEGIN:VCALENDAR
PRODID:SV Blau-Weiß Bochum 1896 e.V.
VERSION:2.0
METHOD:PUBLISH
BEGIN:VEVENT
DTSTART:20260516T100000
DTEND:20260517T180000
TRANSP:OPAQUE
UID:xyz
DTSTAMP:20260423T120400Z
SUMMARY:NRW_Jahrgangsmeisterschaften
DESCRIPTION: (https://bw-bochum.de/m.php?kid=1887)
END:VEVENT
END:VCALENDAR